BEGIN:VCALENDAR
VERSION:2.0
PRODID:-//KTC SoCal - ECPv6.15.20//NONSGML v1.0//EN
CALSCALE:GREGORIAN
METHOD:PUBLISH
X-ORIGINAL-URL:https://ktcsocal.org
X-WR-CALDESC:Events for KTC SoCal
REFRESH-INTERVAL;VALUE=DURATION:PT1H
X-Robots-Tag:noindex
X-PUBLISHED-TTL:PT1H
BEGIN:VTIMEZONE
TZID:America/Denver
BEGIN:DAYLIGHT
TZOFFSETFROM:-0700
TZOFFSETTO:-0600
TZNAME:MDT
DTSTART:20240310T090000
END:DAYLIGHT
BEGIN:STANDARD
TZOFFSETFROM:-0600
TZOFFSETTO:-0700
TZNAME:MST
DTSTART:20241103T080000
END:STANDARD
BEGIN:DAYLIGHT
TZOFFSETFROM:-0700
TZOFFSETTO:-0600
TZNAME:MDT
DTSTART:20250309T090000
END:DAYLIGHT
BEGIN:STANDARD
TZOFFSETFROM:-0600
TZOFFSETTO:-0700
TZNAME:MST
DTSTART:20251102T080000
END:STANDARD
BEGIN:DAYLIGHT
TZOFFSETFROM:-0700
TZOFFSETTO:-0600
TZNAME:MDT
DTSTART:20260308T090000
END:DAYLIGHT
BEGIN:STANDARD
TZOFFSETFROM:-0600
TZOFFSETTO:-0700
TZNAME:MST
DTSTART:20261101T080000
END:STANDARD
END:VTIMEZONE
BEGIN:VEVENT
DTSTART;TZID=America/Denver:20250904T183000
DTEND;TZID=America/Denver:20250904T203000
DTSTAMP:20260420T004305
CREATED:20250905T115158Z
LAST-MODIFIED:20250905T115158Z
UID:3144-1757010600-1757017800@ktcsocal.org
SUMMARY:Lama Karma - Chenrezig Practice
DESCRIPTION:Join us with Lama Karma as he guides us in Chenrezig Practice\, a profound meditation cultivating compassion and lovingkindness. \nChenrezig\, known as Avalokiteshvara\, embodies compassion in Tibetan Buddhism. Through this practice\, we tap into the limitless wellspring of compassion\, extending it to all sentient beings. It’s a beautiful opportunity to nurture our hearts\, deepen our connection with others\, and foster positive change in the world. \nWhether you’re new to this practice or have practiced it before\, everyone is welcome to participate. \n.
URL:https://ktcsocal.org/calendar/lama-karma-chenrezig-practice-3/
END:VEVENT
BEGIN:VEVENT
DTSTART;TZID=America/Denver:20250906T110000
DTEND;TZID=America/Denver:20250906T120000
DTSTAMP:20260420T004305
CREATED:20250905T115218Z
LAST-MODIFIED:20250905T115218Z
UID:3146-1757156400-1757160000@ktcsocal.org
SUMMARY:Mindfulness Meditation
DESCRIPTION:Mindfulness Meditation Classes\nIn-person 1st & 3rd Saturdays\nDesert Hot Springs\n\nJoin Dr. Charles Dawes\, senior meditation practitioner\, and KTC SoCal Board member\, on the first and third Saturdays in Desert Hot Springs for instruction on practicing mindfulness meditation. Classes are held at 11 am at Hidden Springs Country Club\, Community Center Clubhouse\, 14912 Yerxa Rd\, Desert Hot Springs\, CA 92240. Classes are free and open to all; reservations are not required.
URL:https://ktcsocal.org/calendar/mindfulness-meditation-15/
END:VEVENT
BEGIN:VEVENT
DTSTART;TZID=America/Denver:20250911T183000
DTEND;TZID=America/Denver:20250911T193000
DTSTAMP:20260420T004305
CREATED:20250905T115247Z
LAST-MODIFIED:20250905T115247Z
UID:3148-1757615400-1757619000@ktcsocal.org
SUMMARY:Lama Adam Berner - On the Wings of Wisdom and Compassion
DESCRIPTION:Join us tonight at 6:30 PM PST for a teaching with Lama Adam Berner. \nMost of us begin meditation by learning to let go.  Through practices such as calm-abiding meditation\, we notice thoughts and concepts and then repeatedly train to let them go.  This is a partial path to the rich experience of awakening\, though\, as our daily lives continually demonstrate that\, in fact\, there are plenty of things we do need to pick up.  Discerning what is to be adopted and how to do so is\, in many ways\, the territory of Lojong\, or “mind training”\, which is best known for its hallmark practice of taking and sending (tong-len) and its list of 59 pithy slogans. \nThis series of interactive discussions will explore the Lojong teachings found in Jamgon Kongtrul Rinpoche’s Great Path of Awakening\, as expanded on by Chogyam Trungpa Rinpoche in his book Training the Mind and Cultivating Loving-Kindness.  With guided practice and lively discussion\, we’ll extend our understanding of the relationship between compassion and non-conceptuality\, and why they are considered to be like the two wings of a bird; both necessary for us to take flight. \nWe start our sessions with a 15-minute silent meditation at 6:15 PM PST. Please be mindful when entering at that time.
URL:https://ktcsocal.org/calendar/lama-adam-berner-on-the-wings-of-wisdom-and-compassion-15/
END:VEVENT
BEGIN:VEVENT
DTSTART;TZID=America/Denver:20250918T183000
DTEND;TZID=America/Denver:20250918T193000
DTSTAMP:20260420T004305
CREATED:20250905T115401Z
LAST-MODIFIED:20250905T115401Z
UID:3150-1758220200-1758223800@ktcsocal.org
SUMMARY:Lama Kathy Wesley - Getting Familiar with Your Mind
DESCRIPTION:Lama Kathy Wesley – Getting Familiar with Your Mind: Meditation Practice and Discussion.\n\n\n\n\n\n\n\n\n\n\n\n\n\n\n\n\n\n\n\n\n\n\n\n\n\n\n\n\nLots of people are meditating these days\, which is wonderful\, since the practice can help reduce anxiety and promote positive change in our minds and lives. And getting tips and pointers can help us work through the rough spots and deepen our understanding of ourselves. \nUsing Thrangu Rinpoche’s short book\, “A Guide to Shamatha and Vipashyana Meditation\,” Lama Kathy will offer tips and sit with us to encourage us to get familiar with ourselves and create space for positive inner change.
URL:https://ktcsocal.org/calendar/lama-kathy-wesley-getting-familiar-with-your-mind/
END:VEVENT
BEGIN:VEVENT
DTSTART;TZID=America/Denver:20250920T110000
DTEND;TZID=America/Denver:20250920T120000
DTSTAMP:20260420T004305
CREATED:20250905T115423Z
LAST-MODIFIED:20250905T115423Z
UID:3152-1758366000-1758369600@ktcsocal.org
SUMMARY:Mindfulness Meditation
DESCRIPTION:Mindfulness Meditation Classes\nIn-person 1st & 3rd Saturdays\nDesert Hot Springs\n\nJoin Dr. Charles Dawes\, senior meditation practitioner\, and KTC SoCal Board member\, on the first and third Saturdays in Desert Hot Springs for instruction on practicing mindfulness meditation. Classes are held at 11 am at Hidden Springs Country Club\, Community Center Clubhouse\, 14912 Yerxa Rd\, Desert Hot Springs\, CA 92240. Classes are free and open to all; reservations are not required.
URL:https://ktcsocal.org/calendar/mindfulness-meditation-16/
END:VEVENT
BEGIN:VEVENT
DTSTART;TZID=America/Denver:20250925T110000
DTEND;TZID=America/Denver:20250925T120000
DTSTAMP:20260420T004305
CREATED:20250913T165732Z
LAST-MODIFIED:20250913T165732Z
UID:3165-1758798000-1758801600@ktcsocal.org
SUMMARY:Thursday Mindfulness Meditation
DESCRIPTION:Thursday Mindfulness Meditation \n\n\n\n\n\n\n\n\n\n\n\n\n\n\n\n\n\n\n\n\n\n\nJoin us tonight at 6:30 PM PST for our new monthly Mindfulness Meditation Session on Zoom\, led by Darby Burmayer-Wright. We will begin with a brief welcome and simple instructions\, followed by Refuge prayers\, a period of silent meditation\, and an optional group discussion. \nEveryone is warmly welcome\, whether you are new to meditation or an experienced practitioner.
URL:https://ktcsocal.org/calendar/thursday-mindfulness-meditation/
END:VEVENT
END:VCALENDAR