BEGIN:VCALENDAR
VERSION:2.0
PRODID:-//KTC SoCal - ECPv6.15.20//NONSGML v1.0//EN
CALSCALE:GREGORIAN
METHOD:PUBLISH
X-ORIGINAL-URL:https://ktcsocal.org
X-WR-CALDESC:Events for KTC SoCal
REFRESH-INTERVAL;VALUE=DURATION:PT1H
X-Robots-Tag:noindex
X-PUBLISHED-TTL:PT1H
BEGIN:VTIMEZONE
TZID:America/Denver
BEGIN:DAYLIGHT
TZOFFSETFROM:-0700
TZOFFSETTO:-0600
TZNAME:MDT
DTSTART:20240310T090000
END:DAYLIGHT
BEGIN:STANDARD
TZOFFSETFROM:-0600
TZOFFSETTO:-0700
TZNAME:MST
DTSTART:20241103T080000
END:STANDARD
BEGIN:DAYLIGHT
TZOFFSETFROM:-0700
TZOFFSETTO:-0600
TZNAME:MDT
DTSTART:20250309T090000
END:DAYLIGHT
BEGIN:STANDARD
TZOFFSETFROM:-0600
TZOFFSETTO:-0700
TZNAME:MST
DTSTART:20251102T080000
END:STANDARD
BEGIN:DAYLIGHT
TZOFFSETFROM:-0700
TZOFFSETTO:-0600
TZNAME:MDT
DTSTART:20260308T090000
END:DAYLIGHT
BEGIN:STANDARD
TZOFFSETFROM:-0600
TZOFFSETTO:-0700
TZNAME:MST
DTSTART:20261101T080000
END:STANDARD
END:VTIMEZONE
BEGIN:VEVENT
DTSTART;TZID=America/Denver:20250802T110000
DTEND;TZID=America/Denver:20250802T120000
DTSTAMP:20260420T023102
CREATED:20250729T230013Z
LAST-MODIFIED:20250729T230013Z
UID:3133-1754132400-1754136000@ktcsocal.org
SUMMARY:Mindfulness Meditation
DESCRIPTION:Mindfulness Meditation Classes\nIn-person 1st & 3rd Saturdays\nDesert Hot Springs\n\nJoin Dr. Charles Dawes\, senior meditation practitioner\, and KTC SoCal Board member\, on the first and third Saturdays in Desert Hot Springs for instruction on practicing mindfulness meditation. Classes are held at 11 am at Hidden Springs Country Club\, Community Center Clubhouse\, 14912 Yerxa Rd\, Desert Hot Springs\, CA 92240. Classes are free and open to all; reservations are not required.
URL:https://ktcsocal.org/calendar/mindfulness-meditation-13/
END:VEVENT
BEGIN:VEVENT
DTSTART;TZID=America/Denver:20250807T183000
DTEND;TZID=America/Denver:20250807T203000
DTSTAMP:20260420T023102
CREATED:20250729T225937Z
LAST-MODIFIED:20250729T225937Z
UID:3130-1754591400-1754598600@ktcsocal.org
SUMMARY:Lama Karma - Chenrezig Practice
DESCRIPTION:Join us with Lama Karma as he guides us in Chenrezig Practice\, a profound meditation cultivating compassion and lovingkindness. \nChenrezig\, known as Avalokiteshvara\, embodies compassion in Tibetan Buddhism. Through this practice\, we tap into the limitless wellspring of compassion\, extending it to all sentient beings. It’s a beautiful opportunity to nurture our hearts\, deepen our connection with others\, and foster positive change in the world. \nWhether you’re new to this practice or have practiced it before\, everyone is welcome to participate. \n.
URL:https://ktcsocal.org/calendar/lama-karma-chenrezig-practice-2/
END:VEVENT
BEGIN:VEVENT
DTSTART;TZID=America/Denver:20250814T183000
DTEND;TZID=America/Denver:20250814T193000
DTSTAMP:20260420T023102
CREATED:20250729T230038Z
LAST-MODIFIED:20250729T230038Z
UID:3132-1755196200-1755199800@ktcsocal.org
SUMMARY:Lama Adam Berner - On the Wings of Wisdom and Compassion
DESCRIPTION:Join us tonight at 6:30 PM PST for a teaching with Lama Adam Berner. \nMost of us begin meditation by learning to let go.  Through practices such as calm-abiding meditation\, we notice thoughts and concepts and then repeatedly train to let them go.  This is a partial path to the rich experience of awakening\, though\, as our daily lives continually demonstrate that\, in fact\, there are plenty of things we do need to pick up.  Discerning what is to be adopted and how to do so is\, in many ways\, the territory of Lojong\, or “mind training”\, which is best known for its hallmark practice of taking and sending (tong-len) and its list of 59 pithy slogans. \nThis series of interactive discussions will explore the Lojong teachings found in Jamgon Kongtrul Rinpoche’s Great Path of Awakening\, as expanded on by Chogyam Trungpa Rinpoche in his book Training the Mind and Cultivating Loving-Kindness.  With guided practice and lively discussion\, we’ll extend our understanding of the relationship between compassion and non-conceptuality\, and why they are considered to be like the two wings of a bird; both necessary for us to take flight. \nWe start our sessions with a 15-minute silent meditation at 6:15 PM PST. Please be mindful when entering at that time.
URL:https://ktcsocal.org/calendar/lama-adam-berner-on-the-wings-of-wisdom-and-compassion-14/
END:VEVENT
BEGIN:VEVENT
DTSTART;TZID=America/Denver:20250816T110000
DTEND;TZID=America/Denver:20250816T120000
DTSTAMP:20260420T023102
CREATED:20250729T230203Z
LAST-MODIFIED:20250729T230203Z
UID:3138-1755342000-1755345600@ktcsocal.org
SUMMARY:Mindfulness Meditation
DESCRIPTION:Mindfulness Meditation Classes\nIn-person 1st & 3rd Saturdays\nDesert Hot Springs\n\nJoin Dr. Charles Dawes\, senior meditation practitioner\, and KTC SoCal Board member\, on the first and third Saturdays in Desert Hot Springs for instruction on practicing mindfulness meditation. Classes are held at 11 am at Hidden Springs Country Club\, Community Center Clubhouse\, 14912 Yerxa Rd\, Desert Hot Springs\, CA 92240. Classes are free and open to all; reservations are not required.
URL:https://ktcsocal.org/calendar/mindfulness-meditation-14/
END:VEVENT
BEGIN:VEVENT
DTSTART;TZID=America/Denver:20250821T183000
DTEND;TZID=America/Denver:20250821T193000
DTSTAMP:20260420T023102
CREATED:20250729T230114Z
LAST-MODIFIED:20250729T230114Z
UID:3136-1755801000-1755804600@ktcsocal.org
SUMMARY:Lama Kathy Wesley - The Joy of Living Book Study
DESCRIPTION:We are thrilled to invite you to our Joyful Wisdom Book Study with Lama Kathy Wesley tonight at 6:30 PM PST. \nLama Kathy Wesley will teach from Joyful Wisdom by Yongey Mingyur Rinpoche\, a book that directly addresses the timeless anxiety problem in our everyday lives. From the 2\,500-year-old perspective of Buddhism\, every chapter in human history could be described as an ‘age of anxiety.’ The anxiety we feel now has been part of the human condition for centuries. \nSo what do we do? Escape or succumb? Both routes inevitably lead to more complications and problems in our lives. “Buddhism\,” he says\, “offers a third option. We can look directly at the disturbing emotions and other problems we experience as stepping stones to freedom. Instead of rejecting or surrendering to them\, we can befriend them\, working through them to reach an enduring authentic experience of our inherent Wisdom\, confidence\, clarity\, and joy. \nWe start our sessions with a 15-minute silent meditation at 6:15 PM PST. Please be mindful when entering at that time.
URL:https://ktcsocal.org/calendar/lama-kathy-wesley-the-joy-of-living-book-study-16/
END:VEVENT
END:VCALENDAR