BEGIN:VCALENDAR
VERSION:2.0
PRODID:-//KTC SoCal - ECPv6.15.20//NONSGML v1.0//EN
CALSCALE:GREGORIAN
METHOD:PUBLISH
X-WR-CALNAME:KTC SoCal
X-ORIGINAL-URL:https://ktcsocal.org
X-WR-CALDESC:Events for KTC SoCal
REFRESH-INTERVAL;VALUE=DURATION:PT1H
X-Robots-Tag:noindex
X-PUBLISHED-TTL:PT1H
BEGIN:VTIMEZONE
TZID:America/Denver
BEGIN:DAYLIGHT
TZOFFSETFROM:-0700
TZOFFSETTO:-0600
TZNAME:MDT
DTSTART:20220313T090000
END:DAYLIGHT
BEGIN:STANDARD
TZOFFSETFROM:-0600
TZOFFSETTO:-0700
TZNAME:MST
DTSTART:20221106T080000
END:STANDARD
BEGIN:DAYLIGHT
TZOFFSETFROM:-0700
TZOFFSETTO:-0600
TZNAME:MDT
DTSTART:20230312T090000
END:DAYLIGHT
BEGIN:STANDARD
TZOFFSETFROM:-0600
TZOFFSETTO:-0700
TZNAME:MST
DTSTART:20231105T080000
END:STANDARD
BEGIN:DAYLIGHT
TZOFFSETFROM:-0700
TZOFFSETTO:-0600
TZNAME:MDT
DTSTART:20240310T090000
END:DAYLIGHT
BEGIN:STANDARD
TZOFFSETFROM:-0600
TZOFFSETTO:-0700
TZNAME:MST
DTSTART:20241103T080000
END:STANDARD
END:VTIMEZONE
BEGIN:VEVENT
DTSTART;TZID=America/Denver:20231214T183000
DTEND;TZID=America/Denver:20231214T203000
DTSTAMP:20260425T041021
CREATED:20231202T211925Z
LAST-MODIFIED:20231202T211925Z
UID:1654-1702578600-1702585800@ktcsocal.org
SUMMARY:Lama Adam - Resilience and Resourcing on the Buddhist Path
DESCRIPTION:Lama Adam is teaching tonight.
URL:https://ktcsocal.org/calendar/lama-adam-resilience-and-resourcing-on-the-buddhist-path-5/
END:VEVENT
BEGIN:VEVENT
DTSTART;TZID=America/Denver:20231130T183000
DTEND;TZID=America/Denver:20231130T203000
DTSTAMP:20260425T041021
CREATED:20231030T044116Z
LAST-MODIFIED:20231030T044116Z
UID:1618-1701369000-1701376200@ktcsocal.org
SUMMARY:Lama Karma - Guided Practice
DESCRIPTION:Lama Karma will lead us in a guided practice tonight.
URL:https://ktcsocal.org/calendar/lama-karma-guided-practice-17/
END:VEVENT
BEGIN:VEVENT
DTSTART;TZID=America/Denver:20231116T183000
DTEND;TZID=America/Denver:20231116T203000
DTSTAMP:20260425T041021
CREATED:20231030T044050Z
LAST-MODIFIED:20231030T044050Z
UID:1616-1700159400-1700166600@ktcsocal.org
SUMMARY:Lama Adam - Resilience and Resourcing on the Buddhist Path
DESCRIPTION:Lama Adam is teaching tonight.
URL:https://ktcsocal.org/calendar/lama-adam-resilience-and-resourcing-on-the-buddhist-path-4/
END:VEVENT
BEGIN:VEVENT
DTSTART;TZID=America/Denver:20231109T183000
DTEND;TZID=America/Denver:20231109T203000
DTSTAMP:20260425T041021
CREATED:20231030T044026Z
LAST-MODIFIED:20231030T044026Z
UID:1614-1699554600-1699561800@ktcsocal.org
SUMMARY:Lama Kathy - The Joy of Living Book Study
DESCRIPTION:The Joy of Living by Yongey Mingyur Rinpoche\, a Book Study with Lama Kathy
URL:https://ktcsocal.org/calendar/lama-kathy-the-joy-of-living-book-study-10/
END:VEVENT
BEGIN:VEVENT
DTSTART;TZID=America/Denver:20231102T183000
DTEND;TZID=America/Denver:20231102T203000
DTSTAMP:20260425T041021
CREATED:20231030T044003Z
LAST-MODIFIED:20231030T044003Z
UID:1612-1698949800-1698957000@ktcsocal.org
SUMMARY:Chenrezig Practice
DESCRIPTION:Chenrezig Sadhana: “Sadhana” is a Sanskrit word meaning “practice” or “meditation.” The Sadhana of Chenrezig is a chanting meditation invoking the Bodhisattva of compassion\, Chenrezig. It includes prayer and visualization. No prerequisite needed for this practice.
URL:https://ktcsocal.org/calendar/chenrezig-practice-41/
END:VEVENT
BEGIN:VEVENT
DTSTART;TZID=America/Denver:20231026T183000
DTEND;TZID=America/Denver:20231026T203000
DTSTAMP:20260425T041021
CREATED:20230929T023853Z
LAST-MODIFIED:20230929T023853Z
UID:1607-1698345000-1698352200@ktcsocal.org
SUMMARY:Lama Kathy - The Joy of Living Book Study
DESCRIPTION:The Joy of Living by Yongey Mingyur Rinpoche\, a Book Study with Lama Kathy
URL:https://ktcsocal.org/calendar/lama-kathy-the-joy-of-living-book-study-9/
END:VEVENT
BEGIN:VEVENT
DTSTART;TZID=America/Denver:20231019T183000
DTEND;TZID=America/Denver:20231019T203000
DTSTAMP:20260425T041021
CREATED:20230929T023822Z
LAST-MODIFIED:20230929T023822Z
UID:1605-1697740200-1697747400@ktcsocal.org
SUMMARY:Lama Adam - Resilience and Resourcing on the Buddhist Path
DESCRIPTION:Lama Adam is teaching tonight.
URL:https://ktcsocal.org/calendar/lama-adam-resilience-and-resourcing-on-the-buddhist-path-3/
END:VEVENT
BEGIN:VEVENT
DTSTART;TZID=America/Denver:20231012T183000
DTEND;TZID=America/Denver:20231012T203000
DTSTAMP:20260425T041021
CREATED:20230929T023755Z
LAST-MODIFIED:20230929T023755Z
UID:1603-1697135400-1697142600@ktcsocal.org
SUMMARY:Chenrezig Practice
DESCRIPTION:Chenrezig Sadhana: “Sadhana” is a Sanskrit word meaning “practice” or “meditation.” The Sadhana of Chenrezig is a chanting meditation invoking the Bodhisattva of compassion\, Chenrezig. It includes prayer and visualization. No prerequisite needed for this practice.
URL:https://ktcsocal.org/calendar/chenrezig-practice-40/
END:VEVENT
BEGIN:VEVENT
DTSTART;TZID=America/Denver:20231005T183000
DTEND;TZID=America/Denver:20231005T203000
DTSTAMP:20260425T041021
CREATED:20230929T023731Z
LAST-MODIFIED:20230929T023731Z
UID:1601-1696530600-1696537800@ktcsocal.org
SUMMARY:Lama Karma - Guided Practice
DESCRIPTION:Lama Karma will lead us in a guided practice tonight.
URL:https://ktcsocal.org/calendar/lama-karma-guided-practice-16/
END:VEVENT
BEGIN:VEVENT
DTSTART;TZID=America/Denver:20230928T183000
DTEND;TZID=America/Denver:20230928T203000
DTSTAMP:20260425T041021
CREATED:20230912T173047Z
LAST-MODIFIED:20230912T173047Z
UID:1586-1695925800-1695933000@ktcsocal.org
SUMMARY:Lama Kathy - The Joy of Living Book Study
DESCRIPTION:The Joy of Living by Yongey Mingyur Rinpoche\, a Book Study with Lama Kathy
URL:https://ktcsocal.org/calendar/lama-kathy-the-joy-of-living-book-study-8/
END:VEVENT
BEGIN:VEVENT
DTSTART;TZID=America/Denver:20230923T103000
DTEND;TZID=America/Denver:20230924T153000
DTSTAMP:20260425T041021
CREATED:20230813T035823Z
LAST-MODIFIED:20230813T035904Z
UID:1561-1695465000-1695569400@ktcsocal.org
SUMMARY:Bardo Teaching & Transmissions by Lopon Lama Tobden
DESCRIPTION:Please join us in welcoming Thrangu Vajra Master Lama Tobden for his first visit to California! \nIn this historic visit\, Lama Tobden will present a four-part teaching on the “Bardo” with sessions on Saturday afternoon\, Sept. 23\, and Sunday\, Sept. 24\, morning and afternoon. \nKhenpo Sangye Trinley of KTD Monastery in Woodstock\, NY\, will assist and translate for Lama Tobden. \nOn Saturday morning\, Sept. 23\, Lama Tobden will bestow the Refuge and Bodhisattva Vows to those wishing to start the Buddhist path\, followed by the empowerment of the Buddha Amitabha\, considered a powerful blessing for the removal of obstacles and obscurations in our minds and lives. \nThis event is a precious and extraordinary opportunity to meet and receive teachings from a meditation master born and trained in Tibet and blessed by many years of dharma practice.
URL:https://ktcsocal.org/calendar/bardo-teaching-transmissions-by-lopon-lama-tobden/
END:VEVENT
BEGIN:VEVENT
DTSTART;TZID=America/Denver:20230921T183000
DTEND;TZID=America/Denver:20230921T203000
DTSTAMP:20260425T041021
CREATED:20230912T173016Z
LAST-MODIFIED:20230912T173016Z
UID:1584-1695321000-1695328200@ktcsocal.org
SUMMARY:Lama Adam - Resilience and Resourcing on the Buddhist Path
DESCRIPTION:Lama Adam is teaching tonight.
URL:https://ktcsocal.org/calendar/lama-adam-resilience-and-resourcing-on-the-buddhist-path-2/
END:VEVENT
BEGIN:VEVENT
DTSTART;TZID=America/Denver:20230914T183000
DTEND;TZID=America/Denver:20230914T203000
DTSTAMP:20260425T041021
CREATED:20230912T172942Z
LAST-MODIFIED:20230912T172942Z
UID:1582-1694716200-1694723400@ktcsocal.org
SUMMARY:Chenrezig Practice
DESCRIPTION:Chenrezig Sadhana: “Sadhana” is a Sanskrit word meaning “practice” or “meditation.” The Sadhana of Chenrezig is a chanting meditation invoking the Bodhisattva of compassion\, Chenrezig. It includes prayer and visualization. No prerequisite needed for this practice.
URL:https://ktcsocal.org/calendar/chenrezig-practice-39/
END:VEVENT
BEGIN:VEVENT
DTSTART;TZID=America/Denver:20230907T183000
DTEND;TZID=America/Denver:20230907T203000
DTSTAMP:20260425T041021
CREATED:20230912T172905Z
LAST-MODIFIED:20230912T172905Z
UID:1580-1694111400-1694118600@ktcsocal.org
SUMMARY:Lama Karma - Guided Practice
DESCRIPTION:Lama Karma will lead us in a guided practice tonight.
URL:https://ktcsocal.org/calendar/lama-karma-guided-practice-15/
END:VEVENT
BEGIN:VEVENT
DTSTART;TZID=America/Denver:20230831T183000
DTEND;TZID=America/Denver:20230831T203000
DTSTAMP:20260425T041021
CREATED:20230731T035140Z
LAST-MODIFIED:20230731T035140Z
UID:1500-1693506600-1693513800@ktcsocal.org
SUMMARY:Chenrezig Practice
DESCRIPTION:Chenrezig Sadhana: “Sadhana” is a Sanskrit word meaning “practice” or “meditation.” The Sadhana of Chenrezig is a chanting meditation invoking the Bodhisattva of compassion\, Chenrezig. It includes prayer and visualization. No prerequisite needed for this practice.
URL:https://ktcsocal.org/calendar/chenrezig-practice-38/
END:VEVENT
BEGIN:VEVENT
DTSTART;TZID=America/Denver:20230824T183000
DTEND;TZID=America/Denver:20230824T203000
DTSTAMP:20260425T041021
CREATED:20230731T035118Z
LAST-MODIFIED:20230731T035118Z
UID:1498-1692901800-1692909000@ktcsocal.org
SUMMARY:Lama Kathy - The Joy of Living Book Study
DESCRIPTION:The Joy of Living by Yongey Mingyur Rinpoche\, a Book Study with Lama Kathy
URL:https://ktcsocal.org/calendar/lama-kathy-the-joy-of-living-book-study-7/
END:VEVENT
BEGIN:VEVENT
DTSTART;TZID=America/Denver:20230817T183000
DTEND;TZID=America/Denver:20230817T203000
DTSTAMP:20260425T041021
CREATED:20230731T035054Z
LAST-MODIFIED:20230731T035054Z
UID:1496-1692297000-1692304200@ktcsocal.org
SUMMARY:Lama Adam - Resilience and Resourcing on the Buddhist Path
DESCRIPTION:Lama Adam is teaching tonight.
URL:https://ktcsocal.org/calendar/lama-adam-resilience-and-resourcing-on-the-buddhist-path/
END:VEVENT
BEGIN:VEVENT
DTSTART;TZID=America/Denver:20230810T183000
DTEND;TZID=America/Denver:20230810T203000
DTSTAMP:20260425T041021
CREATED:20230731T035007Z
LAST-MODIFIED:20230731T035007Z
UID:1494-1691692200-1691699400@ktcsocal.org
SUMMARY:Lama Karma - Guided Practice
DESCRIPTION:Lama Karma will lead us in a guided practice tonight.
URL:https://ktcsocal.org/calendar/lama-karma-guided-practice-14/
END:VEVENT
BEGIN:VEVENT
DTSTART;TZID=America/Denver:20230727T183000
DTEND;TZID=America/Denver:20230727T203000
DTSTAMP:20260425T041021
CREATED:20230703T195229Z
LAST-MODIFIED:20230703T195229Z
UID:1489-1690482600-1690489800@ktcsocal.org
SUMMARY:Lama Kathy - The Joy of Living Book Study
DESCRIPTION:The Joy of Living by Yongey Mingyur Rinpoche\, a Book Study with Lama Kathy
URL:https://ktcsocal.org/calendar/lama-kathy-the-joy-of-living-book-study-6/
END:VEVENT
BEGIN:VEVENT
DTSTART;TZID=America/Denver:20230720T183000
DTEND;TZID=America/Denver:20230720T203000
DTSTAMP:20260425T041021
CREATED:20230703T195207Z
LAST-MODIFIED:20230703T195207Z
UID:1487-1689877800-1689885000@ktcsocal.org
SUMMARY:Lama Adam - Ultimately Chenrezig\, Relatively Speaking
DESCRIPTION:Lama Adam is teaching tonight.
URL:https://ktcsocal.org/calendar/lama-adam-ultimately-chenrezig-relatively-speaking-4/
END:VEVENT
BEGIN:VEVENT
DTSTART;TZID=America/Denver:20230713T183000
DTEND;TZID=America/Denver:20230713T203000
DTSTAMP:20260425T041021
CREATED:20230703T195143Z
LAST-MODIFIED:20230703T195143Z
UID:1485-1689273000-1689280200@ktcsocal.org
SUMMARY:Lama Karma - Guided Practice
DESCRIPTION:Lama Karma will lead us in a guided practice tonight.
URL:https://ktcsocal.org/calendar/lama-karma-guided-practice-13/
END:VEVENT
BEGIN:VEVENT
DTSTART;TZID=America/Denver:20230706T183000
DTEND;TZID=America/Denver:20230706T203000
DTSTAMP:20260425T041021
CREATED:20230703T195119Z
LAST-MODIFIED:20230703T195119Z
UID:1483-1688668200-1688675400@ktcsocal.org
SUMMARY:Chenrezig Practice
DESCRIPTION:Chenrezig Sadhana: “Sadhana” is a Sanskrit word meaning “practice” or “meditation.” The Sadhana of Chenrezig is a chanting meditation invoking the Bodhisattva of compassion\, Chenrezig. It includes prayer and visualization. No prerequisite needed for this practice.
URL:https://ktcsocal.org/calendar/chenrezig-practice-37/
END:VEVENT
BEGIN:VEVENT
DTSTART;TZID=America/Denver:20230701T130000
DTEND;TZID=America/Denver:20230701T150000
DTSTAMP:20260425T041021
CREATED:20230607T173908Z
LAST-MODIFIED:20230619T212426Z
UID:1457-1688216400-1688223600@ktcsocal.org
SUMMARY:Lama Karma - Mahamudra Lineage Prayer practice
DESCRIPTION:In-person teaching event with Lama Karma: Mahamudra Lineage Prayer practice
URL:https://ktcsocal.org/calendar/lama-karma-mahamudra-lineage-prayer-practice/
END:VEVENT
BEGIN:VEVENT
DTSTART;TZID=America/Denver:20230701T100000
DTEND;TZID=America/Denver:20230701T120000
DTSTAMP:20260425T041021
CREATED:20230607T173821Z
LAST-MODIFIED:20230607T173821Z
UID:1455-1688205600-1688212800@ktcsocal.org
SUMMARY:Lama Karma - The Golden Rosary\, Stories of the Karma Kagyu Lineage
DESCRIPTION:In-person teaching event with Lama Karma: The Golden Rosary\, Stories of the Karma Kagyu Lineage
URL:https://ktcsocal.org/calendar/lama-karma-the-golden-rosary-stories-of-the-karma-kagyu-lineage/
END:VEVENT
BEGIN:VEVENT
DTSTART;TZID=America/Denver:20230629T183000
DTEND;TZID=America/Denver:20230629T203000
DTSTAMP:20260425T041021
CREATED:20230607T173455Z
LAST-MODIFIED:20230607T173455Z
UID:1453-1688063400-1688070600@ktcsocal.org
SUMMARY:Chenrezig Practice with Lama Karma
DESCRIPTION:We are thrilled to invite all to a special Chenrezig group practice with Lama Karma Drodhul tonight at 6:30 PM PST. \nChenrezig Sadhana: “Sadhana” is a Sanskrit word meaning “practice” or “meditation.” The Sadhana of Chenrezig is a chanting meditation invoking the Bodhisattva of compassion\, Chenrezig. It includes prayer and visualization—no prerequisite is needed for this practice.
URL:https://ktcsocal.org/calendar/chenrezig-practice-with-lama-karma/
END:VEVENT
BEGIN:VEVENT
DTSTART;TZID=America/Denver:20230622T183000
DTEND;TZID=America/Denver:20230622T203000
DTSTAMP:20260425T041021
CREATED:20230525T202709Z
LAST-MODIFIED:20230525T202709Z
UID:1424-1687458600-1687465800@ktcsocal.org
SUMMARY:Lama Kathy - The Joy of Living Book Study
DESCRIPTION:The Joy of Living by Yongey Mingyur Rinpoche\, a Book Study with Lama Kathy
URL:https://ktcsocal.org/calendar/lama-kathy-the-joy-of-living-book-study-5/
END:VEVENT
BEGIN:VEVENT
DTSTART;TZID=America/Denver:20230615T183000
DTEND;TZID=America/Denver:20230615T203000
DTSTAMP:20260425T041021
CREATED:20230525T202646Z
LAST-MODIFIED:20230525T202646Z
UID:1422-1686853800-1686861000@ktcsocal.org
SUMMARY:Lama Adam - Ultimately Chenrezig\, Relatively Speaking
DESCRIPTION:Lama Adam is teaching tonight.
URL:https://ktcsocal.org/calendar/lama-adam-ultimately-chenrezig-relatively-speaking-3/
END:VEVENT
BEGIN:VEVENT
DTSTART;TZID=America/Denver:20230608T183000
DTEND;TZID=America/Denver:20230608T203000
DTSTAMP:20260425T041021
CREATED:20230525T202617Z
LAST-MODIFIED:20230525T202617Z
UID:1420-1686249000-1686256200@ktcsocal.org
SUMMARY:Chenrezig Practice
DESCRIPTION:Chenrezig Sadhana: “Sadhana” is a Sanskrit word meaning “practice” or “meditation.” The Sadhana of Chenrezig is a chanting meditation invoking the Bodhisattva of compassion\, Chenrezig. It includes prayer and visualization. No prerequisite needed for this practice.
URL:https://ktcsocal.org/calendar/chenrezig-practice-36/
END:VEVENT
BEGIN:VEVENT
DTSTART;TZID=America/Denver:20230601T183000
DTEND;TZID=America/Denver:20230601T203000
DTSTAMP:20260425T041021
CREATED:20230525T202553Z
LAST-MODIFIED:20230525T202553Z
UID:1418-1685644200-1685651400@ktcsocal.org
SUMMARY:Lama Karma - Guided Practice
DESCRIPTION:Lama Karma will lead us in a guided practice tonight.
URL:https://ktcsocal.org/calendar/lama-karma-guided-practice-12/
END:VEVENT
BEGIN:VEVENT
DTSTART;TZID=America/Denver:20230525T183000
DTEND;TZID=America/Denver:20230525T203000
DTSTAMP:20260425T041021
CREATED:20230429T214228Z
LAST-MODIFIED:20230429T214228Z
UID:1413-1685039400-1685046600@ktcsocal.org
SUMMARY:Lama Kathy - The Joy of Living Book Study
DESCRIPTION:The Joy of Living by Yongey Mingyur Rinpoche\, a Book Study with Lama Kathy
URL:https://ktcsocal.org/calendar/lama-kathy-the-joy-of-living-book-study-4/
END:VEVENT
END:VCALENDAR