BEGIN:VCALENDAR
VERSION:2.0
PRODID:-//KTC SoCal - ECPv6.15.20//NONSGML v1.0//EN
CALSCALE:GREGORIAN
METHOD:PUBLISH
X-WR-CALNAME:KTC SoCal
X-ORIGINAL-URL:https://ktcsocal.org
X-WR-CALDESC:Events for KTC SoCal
REFRESH-INTERVAL;VALUE=DURATION:PT1H
X-Robots-Tag:noindex
X-PUBLISHED-TTL:PT1H
BEGIN:VTIMEZONE
TZID:America/Denver
BEGIN:DAYLIGHT
TZOFFSETFROM:-0700
TZOFFSETTO:-0600
TZNAME:MDT
DTSTART:20220313T090000
END:DAYLIGHT
BEGIN:STANDARD
TZOFFSETFROM:-0600
TZOFFSETTO:-0700
TZNAME:MST
DTSTART:20221106T080000
END:STANDARD
BEGIN:DAYLIGHT
TZOFFSETFROM:-0700
TZOFFSETTO:-0600
TZNAME:MDT
DTSTART:20230312T090000
END:DAYLIGHT
BEGIN:STANDARD
TZOFFSETFROM:-0600
TZOFFSETTO:-0700
TZNAME:MST
DTSTART:20231105T080000
END:STANDARD
BEGIN:DAYLIGHT
TZOFFSETFROM:-0700
TZOFFSETTO:-0600
TZNAME:MDT
DTSTART:20240310T090000
END:DAYLIGHT
BEGIN:STANDARD
TZOFFSETFROM:-0600
TZOFFSETTO:-0700
TZNAME:MST
DTSTART:20241103T080000
END:STANDARD
BEGIN:DAYLIGHT
TZOFFSETFROM:-0700
TZOFFSETTO:-0600
TZNAME:MDT
DTSTART:20250309T090000
END:DAYLIGHT
BEGIN:STANDARD
TZOFFSETFROM:-0600
TZOFFSETTO:-0700
TZNAME:MST
DTSTART:20251102T080000
END:STANDARD
END:VTIMEZONE
BEGIN:VEVENT
DTSTART;TZID=America/Denver:20240627T183000
DTEND;TZID=America/Denver:20240627T193000
DTSTAMP:20260423T000055
CREATED:20240604T001418Z
LAST-MODIFIED:20240604T001418Z
UID:2479-1719513000-1719516600@ktcsocal.org
SUMMARY:Lama Kathy Wesley - The Joy of Living Book Study
DESCRIPTION:The Joy of Living by Yongey Mingyur Rinpoche\, a Book Study with Lama Kathy Wesley.
URL:https://ktcsocal.org/calendar/lama-kathy-wesley-the-joy-of-living-book-study-2/
END:VEVENT
BEGIN:VEVENT
DTSTART;TZID=America/Denver:20240620T183000
DTEND;TZID=America/Denver:20240620T193000
DTSTAMP:20260423T000055
CREATED:20240604T001353Z
LAST-MODIFIED:20240604T001353Z
UID:2477-1718908200-1718911800@ktcsocal.org
SUMMARY:Lama Adam Berner - On the Wings of Wisdom and Compassion
DESCRIPTION:Lama Adam is teaching tonight.
URL:https://ktcsocal.org/calendar/lama-adam-berner-on-the-wings-of-wisdom-and-compassion-2/
END:VEVENT
BEGIN:VEVENT
DTSTART;TZID=America/Denver:20240613T183000
DTEND;TZID=America/Denver:20240613T193000
DTSTAMP:20260423T000055
CREATED:20240604T001318Z
LAST-MODIFIED:20240604T001318Z
UID:2475-1718303400-1718307000@ktcsocal.org
SUMMARY:Lama Karma Drodhul - Guided Practice
DESCRIPTION:Lama Karma will lead us in a guided practice tonight.
URL:https://ktcsocal.org/calendar/lama-karma-drodhul-guided-practice-2/
END:VEVENT
BEGIN:VEVENT
DTSTART;TZID=America/Denver:20240606T183000
DTEND;TZID=America/Denver:20240606T193000
DTSTAMP:20260423T000055
CREATED:20240604T001259Z
LAST-MODIFIED:20240604T001259Z
UID:2473-1717698600-1717702200@ktcsocal.org
SUMMARY:Chenrezig Practice - Zoom
DESCRIPTION:Chenrezig Sadhana: “Sadhana” is a Sanskrit word meaning “practice” or “meditation.” The Sadhana of Chenrezig is a chanting meditation invoking the Bodhisattva of compassion\, Chenrezig. It includes prayer and visualization. No prerequisite needed for this practice.
URL:https://ktcsocal.org/calendar/chenrezig-practice-zoom-2/
END:VEVENT
BEGIN:VEVENT
DTSTART;TZID=America/Denver:20240530T183000
DTEND;TZID=America/Denver:20240530T193000
DTSTAMP:20260423T000055
CREATED:20240421T183957Z
LAST-MODIFIED:20240430T183834Z
UID:2405-1717093800-1717097400@ktcsocal.org
SUMMARY:Chenrezig Practice - Zoom
DESCRIPTION:Chenrezig Sadhana: “Sadhana” is a Sanskrit word meaning “practice” or “meditation.” The Sadhana of Chenrezig is a chanting meditation invoking the Bodhisattva of compassion\, Chenrezig. It includes prayer and visualization. No prerequisite needed for this practice.
URL:https://ktcsocal.org/calendar/chenrezig-practice-zoom/
END:VEVENT
BEGIN:VEVENT
DTSTART;TZID=America/Denver:20240523T183000
DTEND;TZID=America/Denver:20240523T193000
DTSTAMP:20260423T000055
CREATED:20240421T183905Z
LAST-MODIFIED:20240430T183824Z
UID:2403-1716489000-1716492600@ktcsocal.org
SUMMARY:Lama Kathy Wesley - The Joy of Living Book Study
DESCRIPTION:The Joy of Living by Yongey Mingyur Rinpoche\, a Book Study with Lama Kathy Wesley.
URL:https://ktcsocal.org/calendar/lama-kathy-wesley-the-joy-of-living-book-study/
END:VEVENT
BEGIN:VEVENT
DTSTART;TZID=America/Denver:20240518T110000
DTEND;TZID=America/Denver:20240518T120000
DTSTAMP:20260423T000055
CREATED:20240421T183743Z
LAST-MODIFIED:20240421T183743Z
UID:2401-1716030000-1716033600@ktcsocal.org
SUMMARY:Meditation Class - Desert Hot Springs
DESCRIPTION:In-person mediation class with Charles Dawes in Desert Hot Springs (will also be on Zoom starting in June).
URL:https://ktcsocal.org/calendar/meditation-class-desert-hot-springs-2/
END:VEVENT
BEGIN:VEVENT
DTSTART;TZID=America/Denver:20240516T183000
DTEND;TZID=America/Denver:20240516T193000
DTSTAMP:20260423T000055
CREATED:20240421T183706Z
LAST-MODIFIED:20240430T183810Z
UID:2399-1715884200-1715887800@ktcsocal.org
SUMMARY:Lama Karma Drodhul - Guided Practice
DESCRIPTION:Lama Karma will lead us in a guided practice tonight.
URL:https://ktcsocal.org/calendar/lama-karma-drodhul-guided-practice/
END:VEVENT
BEGIN:VEVENT
DTSTART;TZID=America/Denver:20240511T100000
DTEND;TZID=America/Denver:20240511T113000
DTSTAMP:20260423T000055
CREATED:20240421T183549Z
LAST-MODIFIED:20240421T183549Z
UID:2397-1715421600-1715427000@ktcsocal.org
SUMMARY:Chenrezig Practice :: In-person Los Angeles
DESCRIPTION:Join us for our group Chenrezig chanting practice. The day-of reminder email will include information and the location. \nChenrezig Sadhana: “Sadhana” is a Sanskrit word meaning “practice” or “meditation.” The Sadhana of Chenrezig is a chanting meditation invoking the Bodhisattva of compassion\, Chenrezig. It includes prayer and visualization. No prerequisite is needed for this practice.
URL:https://ktcsocal.org/calendar/chenrezig-practice-in-person-los-angeles/
END:VEVENT
BEGIN:VEVENT
DTSTART;TZID=America/Denver:20240509T183000
DTEND;TZID=America/Denver:20240509T193000
DTSTAMP:20260423T000055
CREATED:20240421T183224Z
LAST-MODIFIED:20240430T183750Z
UID:2395-1715279400-1715283000@ktcsocal.org
SUMMARY:Lama Adam Berner - On the Wings of Wisdom and Compassion
DESCRIPTION:Lama Adam is teaching tonight.
URL:https://ktcsocal.org/calendar/lama-adam-berner-on-the-wings-of-wisdom-and-compassion/
END:VEVENT
BEGIN:VEVENT
DTSTART;TZID=America/Denver:20240504T110000
DTEND;TZID=America/Denver:20240504T120000
DTSTAMP:20260423T000055
CREATED:20240421T183129Z
LAST-MODIFIED:20240421T183129Z
UID:2393-1714820400-1714824000@ktcsocal.org
SUMMARY:Meditation Class - Desert Hot Springs
DESCRIPTION:In-person mediation class with Charles Dawes in Desert Hot Springs (will also be on Zoom starting in June).
URL:https://ktcsocal.org/calendar/meditation-class-desert-hot-springs/
END:VEVENT
BEGIN:VEVENT
DTSTART;TZID=America/Denver:20240502T183000
DTEND;TZID=America/Denver:20240502T193000
DTSTAMP:20260423T000055
CREATED:20240421T182807Z
LAST-MODIFIED:20240430T183733Z
UID:2391-1714674600-1714678200@ktcsocal.org
SUMMARY:Lama Lodro Lhamo - Ngöndro & New KTC SoCal + Website opening
DESCRIPTION:Lama Lodro Lhamo\, President of KTD\, will lead us in a guided Ngöndro practice tonight. In the beginning\, we will celebrate our name change to KTC SoCal and the official opening of our new website.
URL:https://ktcsocal.org/calendar/lama-lodro-lhamo-ngondro-new-ktc-socal-website-opening/
END:VEVENT
BEGIN:VEVENT
DTSTART;TZID=America/Denver:20240425T183000
DTEND;TZID=America/Denver:20240425T193000
DTSTAMP:20260423T000055
CREATED:20240412T053634Z
LAST-MODIFIED:20240430T183720Z
UID:2176-1714069800-1714073400@ktcsocal.org
SUMMARY:Chenrezig Practice
DESCRIPTION:Chenrezig Sadhana: “Sadhana” is a Sanskrit word meaning “practice” or “meditation.” The Sadhana of Chenrezig is a chanting meditation invoking the Bodhisattva of compassion\, Chenrezig. It includes prayer and visualization. No prerequisite needed for this practice.
URL:https://ktcsocal.org/calendar/chenrezig-practice-45/
END:VEVENT
BEGIN:VEVENT
DTSTART;TZID=America/Denver:20240418T183000
DTEND;TZID=America/Denver:20240418T203000
DTSTAMP:20260423T000055
CREATED:20240412T053615Z
LAST-MODIFIED:20240421T182425Z
UID:2174-1713465000-1713472200@ktcsocal.org
SUMMARY:Lama Adam - On the Wings of Wisdom and Compassion :: New! KTC SoCal
DESCRIPTION:Lama Adam is teaching tonight.
URL:https://ktcsocal.org/calendar/lama-adam-on-the-wings-of-wisdom-and-compassion-3/
END:VEVENT
BEGIN:VEVENT
DTSTART;TZID=America/Denver:20240411T183000
DTEND;TZID=America/Denver:20240411T203000
DTSTAMP:20260423T000055
CREATED:20240412T053555Z
LAST-MODIFIED:20240412T053555Z
UID:2172-1712860200-1712867400@ktcsocal.org
SUMMARY:Lama Kathy - The Joy of Living Book Study
DESCRIPTION:The Joy of Living by Yongey Mingyur Rinpoche\, a Book Study with Lama Kathy
URL:https://ktcsocal.org/calendar/lama-kathy-the-joy-of-living-book-study-15/
END:VEVENT
BEGIN:VEVENT
DTSTART;TZID=America/Denver:20240404T183000
DTEND;TZID=America/Denver:20240404T203000
DTSTAMP:20260423T000055
CREATED:20240412T053527Z
LAST-MODIFIED:20240412T053527Z
UID:2170-1712255400-1712262600@ktcsocal.org
SUMMARY:Khenpo Tenkyong - Ngondro
DESCRIPTION:Khenpo Tenkyong will lead us in a guided Ngondro practice tonight.
URL:https://ktcsocal.org/calendar/khenpo-tenkyong-ngondro/
END:VEVENT
BEGIN:VEVENT
DTSTART;TZID=America/Denver:20240328T183000
DTEND;TZID=America/Denver:20240328T203000
DTSTAMP:20260423T000055
CREATED:20240303T032946Z
LAST-MODIFIED:20240303T032946Z
UID:1713-1711650600-1711657800@ktcsocal.org
SUMMARY:Chenrezig Practice
DESCRIPTION:Chenrezig Sadhana: “Sadhana” is a Sanskrit word meaning “practice” or “meditation.” The Sadhana of Chenrezig is a chanting meditation invoking the Bodhisattva of compassion\, Chenrezig. It includes prayer and visualization. No prerequisite needed for this practice.
URL:https://ktcsocal.org/calendar/chenrezig-practice-44/
END:VEVENT
BEGIN:VEVENT
DTSTART;TZID=America/Denver:20240321T183000
DTEND;TZID=America/Denver:20240321T203000
DTSTAMP:20260423T000055
CREATED:20240303T032924Z
LAST-MODIFIED:20240303T032924Z
UID:1711-1711045800-1711053000@ktcsocal.org
SUMMARY:Lama Adam - On the Wings of Wisdom and Compassion
DESCRIPTION:Lama Adam is teaching tonight.
URL:https://ktcsocal.org/calendar/lama-adam-on-the-wings-of-wisdom-and-compassion-2/
END:VEVENT
BEGIN:VEVENT
DTSTART;TZID=America/Denver:20240314T183000
DTEND;TZID=America/Denver:20240314T203000
DTSTAMP:20260423T000055
CREATED:20240303T032856Z
LAST-MODIFIED:20240303T032856Z
UID:1709-1710441000-1710448200@ktcsocal.org
SUMMARY:Lama Adam - Ngondro
DESCRIPTION:Lama Adam will lead us in a guided Ngondro practice tonight.
URL:https://ktcsocal.org/calendar/lama-adam-ngondro/
END:VEVENT
BEGIN:VEVENT
DTSTART;TZID=America/Denver:20240307T183000
DTEND;TZID=America/Denver:20240307T203000
DTSTAMP:20260423T000055
CREATED:20240303T032818Z
LAST-MODIFIED:20240303T032818Z
UID:1707-1709836200-1709843400@ktcsocal.org
SUMMARY:Lama Kathy - The Joy of Living Book Study
DESCRIPTION:The Joy of Living by Yongey Mingyur Rinpoche\, a Book Study with Lama Kathy
URL:https://ktcsocal.org/calendar/lama-kathy-the-joy-of-living-book-study-14/
END:VEVENT
BEGIN:VEVENT
DTSTART;TZID=America/Denver:20240229T183000
DTEND;TZID=America/Denver:20240229T203000
DTSTAMP:20260423T000055
CREATED:20240129T034617Z
LAST-MODIFIED:20240129T034617Z
UID:1684-1709231400-1709238600@ktcsocal.org
SUMMARY:Chenrezig Practice
DESCRIPTION:Chenrezig Sadhana: “Sadhana” is a Sanskrit word meaning “practice” or “meditation.” The Sadhana of Chenrezig is a chanting meditation invoking the Bodhisattva of compassion\, Chenrezig. It includes prayer and visualization. No prerequisite needed for this practice.
URL:https://ktcsocal.org/calendar/chenrezig-practice-43/
END:VEVENT
BEGIN:VEVENT
DTSTART;TZID=America/Denver:20240222T183000
DTEND;TZID=America/Denver:20240222T203000
DTSTAMP:20260423T000055
CREATED:20240129T034559Z
LAST-MODIFIED:20240129T034559Z
UID:1682-1708626600-1708633800@ktcsocal.org
SUMMARY:Lama Kathy - Ngondro
DESCRIPTION:Lama Kathy will lead us in a guided Ngondro practice tonight.
URL:https://ktcsocal.org/calendar/lama-kathy-ngondro/
END:VEVENT
BEGIN:VEVENT
DTSTART;TZID=America/Denver:20240215T183000
DTEND;TZID=America/Denver:20240215T203000
DTSTAMP:20260423T000055
CREATED:20240129T034522Z
LAST-MODIFIED:20240129T034522Z
UID:1680-1708021800-1708029000@ktcsocal.org
SUMMARY:Lama Adam - On the Wings of Wisdom and Compassion
DESCRIPTION:Lama Adam is teaching tonight.
URL:https://ktcsocal.org/calendar/lama-adam-on-the-wings-of-wisdom-and-compassion/
END:VEVENT
BEGIN:VEVENT
DTSTART;TZID=America/Denver:20240208T183000
DTEND;TZID=America/Denver:20240208T203000
DTSTAMP:20260423T000055
CREATED:20240129T034439Z
LAST-MODIFIED:20240129T034439Z
UID:1678-1707417000-1707424200@ktcsocal.org
SUMMARY:Lama Kathy - The Joy of Living Book Study
DESCRIPTION:The Joy of Living by Yongey Mingyur Rinpoche\, a Book Study with Lama Kathy
URL:https://ktcsocal.org/calendar/lama-kathy-the-joy-of-living-book-study-13/
END:VEVENT
BEGIN:VEVENT
DTSTART;TZID=America/Denver:20240201T183000
DTEND;TZID=America/Denver:20240201T203000
DTSTAMP:20260423T000055
CREATED:20240129T034403Z
LAST-MODIFIED:20240129T034403Z
UID:1676-1706812200-1706819400@ktcsocal.org
SUMMARY:Khenpo Tenkyong - Guide to a wise Daily Meditation practice
DESCRIPTION:Khenpo Tenkyong will give an insightful exploration into the art of wise daily meditation. Drawing from Buddha’s teachings\, discover practical insights to integrate mindfulness seamlessly into your everyday life.
URL:https://ktcsocal.org/calendar/khenpo-tenkyong-guide-to-a-wise-daily-meditation-practice/
END:VEVENT
BEGIN:VEVENT
DTSTART;TZID=America/Denver:20240125T183000
DTEND;TZID=America/Denver:20240125T203000
DTSTAMP:20260423T000055
CREATED:20231231T030529Z
LAST-MODIFIED:20231231T030529Z
UID:1668-1706207400-1706214600@ktcsocal.org
SUMMARY:Chenrezig Practice
DESCRIPTION:Chenrezig Sadhana: “Sadhana” is a Sanskrit word meaning “practice” or “meditation.” The Sadhana of Chenrezig is a chanting meditation invoking the Bodhisattva of compassion\, Chenrezig. It includes prayer and visualization. No prerequisite needed for this practice.
URL:https://ktcsocal.org/calendar/chenrezig-practice-42/
END:VEVENT
BEGIN:VEVENT
DTSTART;TZID=America/Denver:20240118T183000
DTEND;TZID=America/Denver:20240118T203000
DTSTAMP:20260423T000055
CREATED:20231231T030506Z
LAST-MODIFIED:20231231T030506Z
UID:1666-1705602600-1705609800@ktcsocal.org
SUMMARY:Lama Adam - Resilience and Resourcing on the Buddhist Path
DESCRIPTION:Lama Adam is teaching tonight.
URL:https://ktcsocal.org/calendar/lama-adam-resilience-and-resourcing-on-the-buddhist-path-6/
END:VEVENT
BEGIN:VEVENT
DTSTART;TZID=America/Denver:20240111T183000
DTEND;TZID=America/Denver:20240111T203000
DTSTAMP:20260423T000055
CREATED:20231231T030443Z
LAST-MODIFIED:20240129T034422Z
UID:1664-1704997800-1705005000@ktcsocal.org
SUMMARY:Lama Kathy - The Joy of Living Book Study
DESCRIPTION:The Joy of Living by Yongey Mingyur Rinpoche\, a Book Study with Lama Kathy
URL:https://ktcsocal.org/calendar/lama-kathy-the-joy-of-living-book-study-12/
END:VEVENT
BEGIN:VEVENT
DTSTART;TZID=America/Denver:20240104T183000
DTEND;TZID=America/Denver:20240104T203000
DTSTAMP:20260423T000055
CREATED:20231231T030416Z
LAST-MODIFIED:20231231T030416Z
UID:1662-1704393000-1704400200@ktcsocal.org
SUMMARY:Lama Karma - Ngondro
DESCRIPTION:Lama Karma will lead us in a guided Ngondro practice tonight.
URL:https://ktcsocal.org/calendar/lama-karma-ngondro/
END:VEVENT
BEGIN:VEVENT
DTSTART;TZID=America/Denver:20231221T183000
DTEND;TZID=America/Denver:20231221T203000
DTSTAMP:20260423T000055
CREATED:20231202T211942Z
LAST-MODIFIED:20231202T211942Z
UID:1656-1703183400-1703190600@ktcsocal.org
SUMMARY:Lama Kathy - The Joy of Living Book Study
DESCRIPTION:The Joy of Living by Yongey Mingyur Rinpoche\, a Book Study with Lama Kathy
URL:https://ktcsocal.org/calendar/lama-kathy-the-joy-of-living-book-study-11/
END:VEVENT
END:VCALENDAR