BEGIN:VCALENDAR
VERSION:2.0
PRODID:-//KTC SoCal - ECPv6.15.20//NONSGML v1.0//EN
CALSCALE:GREGORIAN
METHOD:PUBLISH
X-ORIGINAL-URL:https://ktcsocal.org
X-WR-CALDESC:Events for KTC SoCal
REFRESH-INTERVAL;VALUE=DURATION:PT1H
X-Robots-Tag:noindex
X-PUBLISHED-TTL:PT1H
BEGIN:VTIMEZONE
TZID:UTC
BEGIN:STANDARD
TZOFFSETFROM:+0000
TZOFFSETTO:+0000
TZNAME:UTC
DTSTART:20200101T000000
END:STANDARD
END:VTIMEZONE
BEGIN:VEVENT
DTSTART;TZID=UTC:20210708T183000
DTEND;TZID=UTC:20210708T203000
DTSTAMP:20260425T171204
CREATED:20210627T060437Z
LAST-MODIFIED:20210627T060437Z
UID:978-1625769000-1625776200@ktcsocal.org
SUMMARY:Short Chenrezig + Dharma discussion
DESCRIPTION:Chenrezig Sadhana: “Sadhana” is a Sanskrit word meaning “practice” or “meditation.” The Sadhana of Chenrezig is a chanting meditation invoking the Bodhisattva of compassion\, Chenrezig. It includes prayer and visualization. The short practice is followed by Dharma discussion.
URL:https://ktcsocal.org/calendar/short-chenrezig-dharma-discussion-3/
END:VEVENT
BEGIN:VEVENT
DTSTART;TZID=UTC:20210715T183000
DTEND;TZID=UTC:20210715T203000
DTSTAMP:20260425T171204
CREATED:20210627T060517Z
LAST-MODIFIED:20210627T060517Z
UID:980-1626373800-1626381000@ktcsocal.org
SUMMARY:Debra Ann Meditation instructions
DESCRIPTION:Meditation with Debra Ann Robinson-Menzies. Debra Ann is a student of Thrangu Rinpoche since 1985.
URL:https://ktcsocal.org/calendar/debra-ann-meditation-instructions-7/
END:VEVENT
BEGIN:VEVENT
DTSTART;TZID=UTC:20210722T183000
DTEND;TZID=UTC:20210722T203000
DTSTAMP:20260425T171204
CREATED:20210627T060707Z
LAST-MODIFIED:20210627T060707Z
UID:982-1626978600-1626985800@ktcsocal.org
SUMMARY:Lama Karma Drodhul
DESCRIPTION:Lama Karma will be joining us from Woodstock where he is serving his 3-year term as President of Karma Triyana Dharmachakra our home monastery and seat of His Holiness the 17th Gyalwang Karmapa He is a beloved friend and teacher to us and we are so pleased to have him join our Virtual Sangha.
URL:https://ktcsocal.org/calendar/lama-karma-drodhul/
END:VEVENT
BEGIN:VEVENT
DTSTART;TZID=UTC:20210729T183000
DTEND;TZID=UTC:20210729T203000
DTSTAMP:20260425T171204
CREATED:20210627T060900Z
LAST-MODIFIED:20210627T060900Z
UID:984-1627583400-1627590600@ktcsocal.org
SUMMARY:Chenrezig Practice
DESCRIPTION:Chenrezig Sadhana: “Sadhana” is a Sanskrit word meaning “practice” or “meditation.” The Sadhana of Chenrezig is a chanting meditation invoking the Bodhisattva of compassion\, Chenrezig. It includes prayer and visualization. No prerequisite needed for this practice.
URL:https://ktcsocal.org/calendar/chenrezig-practice-19/
END:VEVENT
BEGIN:VEVENT
DTSTART;TZID=UTC:20210805T183000
DTEND;TZID=UTC:20210805T203000
DTSTAMP:20260425T171204
CREATED:20210803T052430Z
LAST-MODIFIED:20210803T052430Z
UID:996-1628188200-1628195400@ktcsocal.org
SUMMARY:Lama Karma Drodhul-Chenrezig practice
DESCRIPTION:Lama Karma will be leading Chenrezig practice tonight. He is joining us from Woodstock where he is serving his 3-year term as President of Karma Triyana Dharmachakra our home monastery and seat of His Holiness the 17th Gyalwang Karmapa He is a beloved friend and teacher to us and we are so pleased to have him join our Virtual Sangha.
URL:https://ktcsocal.org/calendar/lama-karma-drodhul-chenrezig-practice/
END:VEVENT
BEGIN:VEVENT
DTSTART;TZID=UTC:20210812T183000
DTEND;TZID=UTC:20210812T203000
DTSTAMP:20260425T171204
CREATED:20210803T052633Z
LAST-MODIFIED:20210803T052721Z
UID:998-1628793000-1628800200@ktcsocal.org
SUMMARY:Lama Kathy - Aspiration for Mahamudra 1
DESCRIPTION:Lama Kathy is starting our Aspiration for Mahamudra teaching session 1 tonight.
URL:https://ktcsocal.org/calendar/lama-kathy-aspiration-for-mahamudra-1/
END:VEVENT
BEGIN:VEVENT
DTSTART;TZID=UTC:20210819T183000
DTEND;TZID=UTC:20210819T203000
DTSTAMP:20260425T171204
CREATED:20210803T052707Z
LAST-MODIFIED:20210803T052707Z
UID:1000-1629397800-1629405000@ktcsocal.org
SUMMARY:Debra Ann Meditation instructions
DESCRIPTION:Meditation with Debra Ann Robinson-Menzies. Debra Ann is a student of Thrangu Rinpoche since 1985.
URL:https://ktcsocal.org/calendar/debra-ann-meditation-instructions-8/
END:VEVENT
BEGIN:VEVENT
DTSTART;TZID=UTC:20210826T183000
DTEND;TZID=UTC:20210826T203000
DTSTAMP:20260425T171204
CREATED:20210803T052806Z
LAST-MODIFIED:20210803T052813Z
UID:1002-1630002600-1630009800@ktcsocal.org
SUMMARY:Lama Kathy - Aspiration for Mahamudra 2
DESCRIPTION:Lama Kathy is teaching Aspiration for Mahamudra teaching session 2 tonight.
URL:https://ktcsocal.org/calendar/lama-kathy-aspiration-for-mahamudra-2/
END:VEVENT
BEGIN:VEVENT
DTSTART;TZID=UTC:20210902T183000
DTEND;TZID=UTC:20210902T203000
DTSTAMP:20260425T171204
CREATED:20210803T053040Z
LAST-MODIFIED:20210803T053040Z
UID:1004-1630607400-1630614600@ktcsocal.org
SUMMARY:Khenpo Karma Tenkyong - Guided Meditation
DESCRIPTION:Khenpo Karma Tenkyong will be leading us in a guided meditation tonight.
URL:https://ktcsocal.org/calendar/khenpo-karma-tenkyong-guided-meditation/
END:VEVENT
BEGIN:VEVENT
DTSTART;TZID=UTC:20210909T183000
DTEND;TZID=UTC:20210909T203000
DTSTAMP:20260425T171204
CREATED:20210803T053111Z
LAST-MODIFIED:20210803T053111Z
UID:1006-1631212200-1631219400@ktcsocal.org
SUMMARY:Lama Kathy - Aspiration for Mahamudra 3
DESCRIPTION:Lama Kathy is teaching Aspiration for Mahamudra teaching session 3 tonight.
URL:https://ktcsocal.org/calendar/lama-kathy-aspiration-for-mahamudra-3/
END:VEVENT
BEGIN:VEVENT
DTSTART;TZID=UTC:20210916T183000
DTEND;TZID=UTC:20210916T203000
DTSTAMP:20260425T171204
CREATED:20210803T053138Z
LAST-MODIFIED:20210803T053138Z
UID:1008-1631817000-1631824200@ktcsocal.org
SUMMARY:Debra Ann Meditation instructions
DESCRIPTION:Meditation with Debra Ann Robinson-Menzies. Debra Ann is a student of Thrangu Rinpoche since 1985.
URL:https://ktcsocal.org/calendar/debra-ann-meditation-instructions-9/
END:VEVENT
BEGIN:VEVENT
DTSTART;TZID=UTC:20210923T183000
DTEND;TZID=UTC:20210923T203000
DTSTAMP:20260425T171204
CREATED:20210803T053222Z
LAST-MODIFIED:20210803T053424Z
UID:1010-1632421800-1632429000@ktcsocal.org
SUMMARY:Lama Kathy - Aspiration for Mahamudra 4
DESCRIPTION:Lama Kathy is teaching Aspiration for Mahamudra teaching session 4 tonight.
URL:https://ktcsocal.org/calendar/lama-kathy-aspiration-for-mahamudra-4/
END:VEVENT
BEGIN:VEVENT
DTSTART;TZID=UTC:20210930T183000
DTEND;TZID=UTC:20210930T203000
DTSTAMP:20260425T171204
CREATED:20210803T053250Z
LAST-MODIFIED:20210803T053250Z
UID:1012-1633026600-1633033800@ktcsocal.org
SUMMARY:Chenrezig Practice
DESCRIPTION:Chenrezig Sadhana: “Sadhana” is a Sanskrit word meaning “practice” or “meditation.” The Sadhana of Chenrezig is a chanting meditation invoking the Bodhisattva of compassion\, Chenrezig. It includes prayer and visualization. No prerequisite needed for this practice.
URL:https://ktcsocal.org/calendar/chenrezig-practice-20/
END:VEVENT
BEGIN:VEVENT
DTSTART;TZID=UTC:20211007T183000
DTEND;TZID=UTC:20211007T203000
DTSTAMP:20260425T171204
CREATED:20210803T053319Z
LAST-MODIFIED:20210803T053319Z
UID:1014-1633631400-1633638600@ktcsocal.org
SUMMARY:Debra Ann Meditation instructions
DESCRIPTION:Meditation with Debra Ann Robinson-Menzies. Debra Ann is a student of Thrangu Rinpoche since 1985.
URL:https://ktcsocal.org/calendar/debra-ann-meditation-instructions-10/
END:VEVENT
BEGIN:VEVENT
DTSTART;TZID=UTC:20211014T183000
DTEND;TZID=UTC:20211014T203000
DTSTAMP:20260425T171204
CREATED:20210803T053355Z
LAST-MODIFIED:20210803T053355Z
UID:1016-1634236200-1634243400@ktcsocal.org
SUMMARY:Lama Kathy - Aspiration for Mahamudra 5
DESCRIPTION:Lama Kathy is teaching Aspiration for Mahamudra teaching session 5 tonight.
URL:https://ktcsocal.org/calendar/lama-kathy-aspiration-for-mahamudra-5/
END:VEVENT
BEGIN:VEVENT
DTSTART;TZID=UTC:20211021T183000
DTEND;TZID=UTC:20211021T203000
DTSTAMP:20260425T171204
CREATED:20210803T053507Z
LAST-MODIFIED:20210803T053507Z
UID:1019-1634841000-1634848200@ktcsocal.org
SUMMARY:Lama Karma Drodhul-Chenrezig practice
DESCRIPTION:Lama Karma will be leading Chenrezig practice tonight. He is joining us from Woodstock where he is serving his 3-year term as President of Karma Triyana Dharmachakra our home monastery and seat of His Holiness the 17th Gyalwang Karmapa He is a beloved friend and teacher to us and we are so pleased to have him join our Virtual Sangha.
URL:https://ktcsocal.org/calendar/lama-karma-drodhul-chenrezig-practice-2/
END:VEVENT
BEGIN:VEVENT
DTSTART;TZID=UTC:20211028T183000
DTEND;TZID=UTC:20211028T203000
DTSTAMP:20260425T171204
CREATED:20210803T053540Z
LAST-MODIFIED:20210803T053601Z
UID:1021-1635445800-1635453000@ktcsocal.org
SUMMARY:Lama Kathy - Aspiration for Mahamudra 6
DESCRIPTION:Lama Kathy is teaching Aspiration for Mahamudra teaching the final session 6 tonight.
URL:https://ktcsocal.org/calendar/lama-kathy-aspiration-for-mahamudra-6/
END:VEVENT
BEGIN:VEVENT
DTSTART;TZID=UTC:20211104T183000
DTEND;TZID=UTC:20211104T203000
DTSTAMP:20260425T171204
CREATED:20211102T015533Z
LAST-MODIFIED:20211102T015533Z
UID:1043-1636050600-1636057800@ktcsocal.org
SUMMARY:Lama Kathy - Aspiration for Mahamudra 7
DESCRIPTION:Lama Kathy is teaching Aspiration for Mahamudra teaching the final session 7 tonight.
URL:https://ktcsocal.org/calendar/lama-kathy-aspiration-for-mahamudra-7/
END:VEVENT
BEGIN:VEVENT
DTSTART;TZID=UTC:20211111T183000
DTEND;TZID=UTC:20211111T203000
DTSTAMP:20260425T171204
CREATED:20211111T233823Z
LAST-MODIFIED:20211111T233823Z
UID:1050-1636655400-1636662600@ktcsocal.org
SUMMARY:Chenrezig Practice
DESCRIPTION:Chenrezig Sadhana: “Sadhana” is a Sanskrit word meaning “practice” or “meditation.” The Sadhana of Chenrezig is a chanting meditation invoking the Bodhisattva of compassion\, Chenrezig. It includes prayer and visualization. No prerequisite needed for this practice.
URL:https://ktcsocal.org/calendar/chenrezig-practice-21/
END:VEVENT
BEGIN:VEVENT
DTSTART;TZID=UTC:20211118T183000
DTEND;TZID=UTC:20211118T203000
DTSTAMP:20260425T171204
CREATED:20211102T015611Z
LAST-MODIFIED:20211102T015611Z
UID:1045-1637260200-1637267400@ktcsocal.org
SUMMARY:Lama Kathy - Aspiration for Mahamudra 8
DESCRIPTION:Lama Kathy is teaching Aspiration for Mahamudra teaching the final session 8 tonight.
URL:https://ktcsocal.org/calendar/lama-kathy-aspiration-for-mahamudra-8/
END:VEVENT
BEGIN:VEVENT
DTSTART;TZID=UTC:20211202T183000
DTEND;TZID=UTC:20211202T203000
DTSTAMP:20260425T171204
CREATED:20211201T205121Z
LAST-MODIFIED:20211201T205121Z
UID:1055-1638469800-1638477000@ktcsocal.org
SUMMARY:Lama Kathy - Aspiration for Mahamudra Q&A
DESCRIPTION:Lama Kathy Q&A on Aspiration for Mahamudra tonight.
URL:https://ktcsocal.org/calendar/lama-kathy-aspiration-for-mahamudra-qa/
END:VEVENT
BEGIN:VEVENT
DTSTART;TZID=UTC:20211209T183000
DTEND;TZID=UTC:20211209T203000
DTSTAMP:20260425T171204
CREATED:20211201T205234Z
LAST-MODIFIED:20211201T205234Z
UID:1057-1639074600-1639081800@ktcsocal.org
SUMMARY:Lama Karma Drodhul-Sojong Vows
DESCRIPTION:Lama Karma will bestow the reading transmission for the Sojong Vows\, a simple but very beneficial practice to take a vow for one day.
URL:https://ktcsocal.org/calendar/lama-karma-drodhul-sojong-vows/
END:VEVENT
BEGIN:VEVENT
DTSTART;TZID=UTC:20211216T183000
DTEND;TZID=UTC:20211216T203000
DTSTAMP:20260425T171204
CREATED:20211201T205300Z
LAST-MODIFIED:20211201T205300Z
UID:1059-1639679400-1639686600@ktcsocal.org
SUMMARY:Debra Ann Meditation instructions
DESCRIPTION:Meditation with Debra Ann Robinson-Menzies. Debra Ann is a student of Thrangu Rinpoche since 1985.
URL:https://ktcsocal.org/calendar/debra-ann-meditation-instructions-11/
END:VEVENT
BEGIN:VEVENT
DTSTART;TZID=UTC:20220106T183000
DTEND;TZID=UTC:20220106T203000
DTSTAMP:20260425T171204
CREATED:20220104T034338Z
LAST-MODIFIED:20220104T034338Z
UID:1062-1641493800-1641501000@ktcsocal.org
SUMMARY:Chenrezig Practice
DESCRIPTION:Chenrezig Sadhana: “Sadhana” is a Sanskrit word meaning “practice” or “meditation.” The Sadhana of Chenrezig is a chanting meditation invoking the Bodhisattva of compassion\, Chenrezig. It includes prayer and visualization. No prerequisite needed for this practice.
URL:https://ktcsocal.org/calendar/chenrezig-practice-22/
END:VEVENT
BEGIN:VEVENT
DTSTART;TZID=UTC:20220113T183000
DTEND;TZID=UTC:20220113T203000
DTSTAMP:20260425T171204
CREATED:20220104T034503Z
LAST-MODIFIED:20220104T034503Z
UID:1064-1642098600-1642105800@ktcsocal.org
SUMMARY:Lama Kathy - 6 Perfections 1/2
DESCRIPTION:Lama Kathy is teaching on the 6 Perfections tonight.
URL:https://ktcsocal.org/calendar/lama-kathy-6-perfections-1-2/
END:VEVENT
BEGIN:VEVENT
DTSTART;TZID=UTC:20220120T183000
DTEND;TZID=UTC:20220120T203000
DTSTAMP:20260425T171204
CREATED:20220104T034606Z
LAST-MODIFIED:20220104T034606Z
UID:1066-1642703400-1642710600@ktcsocal.org
SUMMARY:Lama Karma Drodhul - Sojong Vows 2
DESCRIPTION:Lama Karma will be teaching on the Sojong Vows\, a simple but very beneficial practice to take a vow for one day.
URL:https://ktcsocal.org/calendar/lama-karma-drodhul-sojong-vows-2/
END:VEVENT
BEGIN:VEVENT
DTSTART;TZID=UTC:20220127T183000
DTEND;TZID=UTC:20220127T203000
DTSTAMP:20260425T171204
CREATED:20220104T034635Z
LAST-MODIFIED:20220104T034635Z
UID:1068-1643308200-1643315400@ktcsocal.org
SUMMARY:Lama Karma Drodhul - Sojong Vows 3
DESCRIPTION:Lama Karma will be teaching on the Sojong Vows\, a simple but very beneficial practice to take a vow for one day.
URL:https://ktcsocal.org/calendar/lama-karma-drodhul-sojong-vows-3/
END:VEVENT
BEGIN:VEVENT
DTSTART;TZID=UTC:20220303T183000
DTEND;TZID=UTC:20220303T203000
DTSTAMP:20260425T171204
CREATED:20220301T063002Z
LAST-MODIFIED:20220301T063002Z
UID:1080-1646332200-1646339400@ktcsocal.org
SUMMARY:Chenrezig Practice
DESCRIPTION:Chenrezig Sadhana: “Sadhana” is a Sanskrit word meaning “practice” or “meditation.” The Sadhana of Chenrezig is a chanting meditation invoking the Bodhisattva of compassion\, Chenrezig. It includes prayer and visualization. No prerequisite needed for this practice.
URL:https://ktcsocal.org/calendar/chenrezig-practice-23/
END:VEVENT
BEGIN:VEVENT
DTSTART;TZID=UTC:20220310T183000
DTEND;TZID=UTC:20220310T203000
DTSTAMP:20260425T171204
CREATED:20220301T063049Z
LAST-MODIFIED:20220301T063049Z
UID:1082-1646937000-1646944200@ktcsocal.org
SUMMARY:Lama Kathy - 6 Perfections 5/6
DESCRIPTION:Lama Kathy is teaching on the 6 Perfections tonight.
URL:https://ktcsocal.org/calendar/lama-kathy-6-perfections-5-6/
END:VEVENT
BEGIN:VEVENT
DTSTART;TZID=UTC:20220317T183000
DTEND;TZID=UTC:20220317T203000
DTSTAMP:20260425T171204
CREATED:20220301T063235Z
LAST-MODIFIED:20220301T063235Z
UID:1084-1647541800-1647549000@ktcsocal.org
SUMMARY:Dharma Discussion
DESCRIPTION:Please join us tonight for a Dharma Discussion.
URL:https://ktcsocal.org/calendar/dharma-discussion/
END:VEVENT
END:VCALENDAR