BEGIN:VCALENDAR
VERSION:2.0
PRODID:-//KTC SoCal - ECPv6.15.20//NONSGML v1.0//EN
CALSCALE:GREGORIAN
METHOD:PUBLISH
X-ORIGINAL-URL:https://ktcsocal.org
X-WR-CALDESC:Events for KTC SoCal
REFRESH-INTERVAL;VALUE=DURATION:PT1H
X-Robots-Tag:noindex
X-PUBLISHED-TTL:PT1H
BEGIN:VTIMEZONE
TZID:America/Denver
BEGIN:DAYLIGHT
TZOFFSETFROM:-0700
TZOFFSETTO:-0600
TZNAME:MDT
DTSTART:20250309T090000
END:DAYLIGHT
BEGIN:STANDARD
TZOFFSETFROM:-0600
TZOFFSETTO:-0700
TZNAME:MST
DTSTART:20251102T080000
END:STANDARD
BEGIN:DAYLIGHT
TZOFFSETFROM:-0700
TZOFFSETTO:-0600
TZNAME:MDT
DTSTART:20260308T090000
END:DAYLIGHT
BEGIN:STANDARD
TZOFFSETFROM:-0600
TZOFFSETTO:-0700
TZNAME:MST
DTSTART:20261101T080000
END:STANDARD
BEGIN:DAYLIGHT
TZOFFSETFROM:-0700
TZOFFSETTO:-0600
TZNAME:MDT
DTSTART:20270314T090000
END:DAYLIGHT
BEGIN:STANDARD
TZOFFSETFROM:-0600
TZOFFSETTO:-0700
TZNAME:MST
DTSTART:20271107T080000
END:STANDARD
END:VTIMEZONE
BEGIN:VEVENT
DTSTART;TZID=America/Denver:20260219T183000
DTEND;TZID=America/Denver:20260219T193000
DTSTAMP:20260419T171425
CREATED:20260128T103919Z
LAST-MODIFIED:20260128T103919Z
UID:3276-1771525800-1771529400@ktcsocal.org
SUMMARY:Lama Kathy Wesley - Getting Familiar with Your Mind
DESCRIPTION:Lots of people are meditating these days\, which is wonderful\, since the practice can help reduce anxiety and promote positive change in our minds and lives. And getting tips and pointers can help us work through the rough spots and deepen our understanding of ourselves. \nUsing Thrangu Rinpoche’s short book\, “A Guide to Shamatha and Vipashyana Meditation\,” Lama Kathy will offer tips and sit with us to encourage us to get familiar with ourselves and create space for positive inner change.
URL:https://ktcsocal.org/calendar/lama-kathy-wesley-getting-familiar-with-your-mind-6/
END:VEVENT
END:VCALENDAR