BEGIN:VCALENDAR
VERSION:2.0
PRODID:-//KTC SoCal - ECPv6.15.20//NONSGML v1.0//EN
CALSCALE:GREGORIAN
METHOD:PUBLISH
X-WR-CALNAME:KTC SoCal
X-ORIGINAL-URL:https://ktcsocal.org
X-WR-CALDESC:Events for KTC SoCal
REFRESH-INTERVAL;VALUE=DURATION:PT1H
X-Robots-Tag:noindex
X-PUBLISHED-TTL:PT1H
BEGIN:VTIMEZONE
TZID:America/Denver
BEGIN:DAYLIGHT
TZOFFSETFROM:-0700
TZOFFSETTO:-0600
TZNAME:MDT
DTSTART:20250309T090000
END:DAYLIGHT
BEGIN:STANDARD
TZOFFSETFROM:-0600
TZOFFSETTO:-0700
TZNAME:MST
DTSTART:20251102T080000
END:STANDARD
BEGIN:DAYLIGHT
TZOFFSETFROM:-0700
TZOFFSETTO:-0600
TZNAME:MDT
DTSTART:20260308T090000
END:DAYLIGHT
BEGIN:STANDARD
TZOFFSETFROM:-0600
TZOFFSETTO:-0700
TZNAME:MST
DTSTART:20261101T080000
END:STANDARD
BEGIN:DAYLIGHT
TZOFFSETFROM:-0700
TZOFFSETTO:-0600
TZNAME:MDT
DTSTART:20270314T090000
END:DAYLIGHT
BEGIN:STANDARD
TZOFFSETFROM:-0600
TZOFFSETTO:-0700
TZNAME:MST
DTSTART:20271107T080000
END:STANDARD
END:VTIMEZONE
BEGIN:VEVENT
DTSTART;TZID=America/Denver:20260212T183000
DTEND;TZID=America/Denver:20260212T193000
DTSTAMP:20260419T172209
CREATED:20260128T103856Z
LAST-MODIFIED:20260128T103856Z
UID:3274-1770921000-1770924600@ktcsocal.org
SUMMARY:Lama Jinpa - The Four Thoughts That Turn the Mind Toward the Dharma
DESCRIPTION:In this series\, Lama Jinpa will guide us through contemplations traditionally used to deepen one’s motivation for practice:\n– the Precious Human Birth\n– Impermanence\n– Karma: Cause and Result\n– and the Sufferings of Samsara \nThese reflections are not just foundational teachings\, they are powerful reminders of why we practice and how we orient ourselves on the path. \nLama Jinpa is a longtime student of Khenpo Karthar Rinpoche and a graduate of the 5th Karme Ling Three-Year Retreat. He has since offered support to KTD\, various KTCs in North Carolina\, and the community of the 9th Traleg Rinpoche at E-Vam. \nEveryone is warmly welcome\, whether you are just beginning with meditation or have been practicing for years.
URL:https://ktcsocal.org/calendar/lama-jinpa-the-four-thoughts-that-turn-the-mind-toward-the-dharma-2/
END:VEVENT
END:VCALENDAR