BEGIN:VCALENDAR
VERSION:2.0
PRODID:-//KTC SoCal - ECPv6.15.20//NONSGML v1.0//EN
CALSCALE:GREGORIAN
METHOD:PUBLISH
X-WR-CALNAME:KTC SoCal
X-ORIGINAL-URL:https://ktcsocal.org
X-WR-CALDESC:Events for KTC SoCal
REFRESH-INTERVAL;VALUE=DURATION:PT1H
X-Robots-Tag:noindex
X-PUBLISHED-TTL:PT1H
BEGIN:VTIMEZONE
TZID:America/Denver
BEGIN:DAYLIGHT
TZOFFSETFROM:-0700
TZOFFSETTO:-0600
TZNAME:MDT
DTSTART:20240310T090000
END:DAYLIGHT
BEGIN:STANDARD
TZOFFSETFROM:-0600
TZOFFSETTO:-0700
TZNAME:MST
DTSTART:20241103T080000
END:STANDARD
BEGIN:DAYLIGHT
TZOFFSETFROM:-0700
TZOFFSETTO:-0600
TZNAME:MDT
DTSTART:20250309T090000
END:DAYLIGHT
BEGIN:STANDARD
TZOFFSETFROM:-0600
TZOFFSETTO:-0700
TZNAME:MST
DTSTART:20251102T080000
END:STANDARD
BEGIN:DAYLIGHT
TZOFFSETFROM:-0700
TZOFFSETTO:-0600
TZNAME:MDT
DTSTART:20260308T090000
END:DAYLIGHT
BEGIN:STANDARD
TZOFFSETFROM:-0600
TZOFFSETTO:-0700
TZNAME:MST
DTSTART:20261101T080000
END:STANDARD
END:VTIMEZONE
BEGIN:VEVENT
DTSTART;TZID=America/Denver:20251220T110000
DTEND;TZID=America/Denver:20251220T120000
DTSTAMP:20260419T210452
CREATED:20251212T014706Z
LAST-MODIFIED:20251212T014706Z
UID:3213-1766228400-1766232000@ktcsocal.org
SUMMARY:Mindfulness Meditation
DESCRIPTION:Mindfulness Meditation Classes\nIn-person 1st & 3rd Saturdays\nDesert Hot Springs\n\nJoin Dr. Charles Dawes\, senior meditation practitioner\, and KTC SoCal Board member\, on the first and third Saturdays in Desert Hot Springs for instruction on practicing mindfulness meditation. Classes are held at 11 am at Hidden Springs Country Club\, Community Center Clubhouse\, 14912 Yerxa Rd\, Desert Hot Springs\, CA 92240. Classes are free and open to all; reservations are not required.
URL:https://ktcsocal.org/calendar/mindfulness-meditation-22/
END:VEVENT
END:VCALENDAR