BEGIN:VCALENDAR
VERSION:2.0
PRODID:-//KTC SoCal - ECPv6.15.20//NONSGML v1.0//EN
CALSCALE:GREGORIAN
METHOD:PUBLISH
X-WR-CALNAME:KTC SoCal
X-ORIGINAL-URL:https://ktcsocal.org
X-WR-CALDESC:Events for KTC SoCal
REFRESH-INTERVAL;VALUE=DURATION:PT1H
X-Robots-Tag:noindex
X-PUBLISHED-TTL:PT1H
BEGIN:VTIMEZONE
TZID:America/Denver
BEGIN:DAYLIGHT
TZOFFSETFROM:-0700
TZOFFSETTO:-0600
TZNAME:MDT
DTSTART:20240310T090000
END:DAYLIGHT
BEGIN:STANDARD
TZOFFSETFROM:-0600
TZOFFSETTO:-0700
TZNAME:MST
DTSTART:20241103T080000
END:STANDARD
BEGIN:DAYLIGHT
TZOFFSETFROM:-0700
TZOFFSETTO:-0600
TZNAME:MDT
DTSTART:20250309T090000
END:DAYLIGHT
BEGIN:STANDARD
TZOFFSETFROM:-0600
TZOFFSETTO:-0700
TZNAME:MST
DTSTART:20251102T080000
END:STANDARD
BEGIN:DAYLIGHT
TZOFFSETFROM:-0700
TZOFFSETTO:-0600
TZNAME:MDT
DTSTART:20260308T090000
END:DAYLIGHT
BEGIN:STANDARD
TZOFFSETFROM:-0600
TZOFFSETTO:-0700
TZNAME:MST
DTSTART:20261101T080000
END:STANDARD
END:VTIMEZONE
BEGIN:VEVENT
DTSTART;TZID=America/Denver:20251002T183000
DTEND;TZID=America/Denver:20251002T203000
DTSTAMP:20260420T004128
CREATED:20251012T092345Z
LAST-MODIFIED:20251012T092345Z
UID:3172-1759429800-1759437000@ktcsocal.org
SUMMARY:Lama Karma - Chenrezig Practice
DESCRIPTION:Join us with Lama Karma as he guides us in Chenrezig Practice\, a profound meditation cultivating compassion and lovingkindness. \nChenrezig\, known as Avalokiteshvara\, embodies compassion in Tibetan Buddhism. Through this practice\, we tap into the limitless wellspring of compassion\, extending it to all sentient beings. It’s a beautiful opportunity to nurture our hearts\, deepen our connection with others\, and foster positive change in the world. \nWhether you’re new to this practice or have practiced it before\, everyone is welcome to participate. \n.
URL:https://ktcsocal.org/calendar/lama-karma-chenrezig-practice-4/
END:VEVENT
END:VCALENDAR