BEGIN:VCALENDAR
VERSION:2.0
PRODID:-//KTC SoCal - ECPv6.15.20//NONSGML v1.0//EN
CALSCALE:GREGORIAN
METHOD:PUBLISH
X-ORIGINAL-URL:https://ktcsocal.org
X-WR-CALDESC:Events for KTC SoCal
REFRESH-INTERVAL;VALUE=DURATION:PT1H
X-Robots-Tag:noindex
X-PUBLISHED-TTL:PT1H
BEGIN:VTIMEZONE
TZID:America/Denver
BEGIN:DAYLIGHT
TZOFFSETFROM:-0700
TZOFFSETTO:-0600
TZNAME:MDT
DTSTART:20240310T090000
END:DAYLIGHT
BEGIN:STANDARD
TZOFFSETFROM:-0600
TZOFFSETTO:-0700
TZNAME:MST
DTSTART:20241103T080000
END:STANDARD
BEGIN:DAYLIGHT
TZOFFSETFROM:-0700
TZOFFSETTO:-0600
TZNAME:MDT
DTSTART:20250309T090000
END:DAYLIGHT
BEGIN:STANDARD
TZOFFSETFROM:-0600
TZOFFSETTO:-0700
TZNAME:MST
DTSTART:20251102T080000
END:STANDARD
BEGIN:DAYLIGHT
TZOFFSETFROM:-0700
TZOFFSETTO:-0600
TZNAME:MDT
DTSTART:20260308T090000
END:DAYLIGHT
BEGIN:STANDARD
TZOFFSETFROM:-0600
TZOFFSETTO:-0700
TZNAME:MST
DTSTART:20261101T080000
END:STANDARD
END:VTIMEZONE
BEGIN:VEVENT
DTSTART;TZID=America/Denver:20250724T183000
DTEND;TZID=America/Denver:20250724T193000
DTSTAMP:20260420T062818
CREATED:20250701T125453Z
LAST-MODIFIED:20250701T125453Z
UID:3119-1753381800-1753385400@ktcsocal.org
SUMMARY:Khenpo Tenkyong - Guide to a wise Daily Meditation practice
DESCRIPTION:Join us tonight at 6:30 PM PST for a Guide to a wise Daily Meditation practice with Khenpo Tenkyong. \nKhenpo Tenkyong will give an insightful exploration into the art of wise daily meditation. Drawing from Buddha’s teachings\, discover practical insights to integrate mindfulness seamlessly into your everyday life. \nExplore meditation’s essence as a transformative tool for modern living. Khenpo Tenkyong will share key elements for a sustainable meditation routine\, emphasizing consistency\, mindfulness in action\, and unwavering focus amidst life’s distractions. \nWe start our sessions with a 15-minute silent meditation at 6:15 PM PST. Please be mindful when entering at that time.
URL:https://ktcsocal.org/calendar/khenpo-tenkyong-guide-to-a-wise-daily-meditation-practice-5/
END:VEVENT
END:VCALENDAR