BEGIN:VCALENDAR
VERSION:2.0
PRODID:-//KTC SoCal - ECPv6.15.20//NONSGML v1.0//EN
CALSCALE:GREGORIAN
METHOD:PUBLISH
X-WR-CALNAME:KTC SoCal
X-ORIGINAL-URL:https://ktcsocal.org
X-WR-CALDESC:Events for KTC SoCal
REFRESH-INTERVAL;VALUE=DURATION:PT1H
X-Robots-Tag:noindex
X-PUBLISHED-TTL:PT1H
BEGIN:VTIMEZONE
TZID:UTC
BEGIN:STANDARD
TZOFFSETFROM:+0000
TZOFFSETTO:+0000
TZNAME:UTC
DTSTART:20190101T000000
END:STANDARD
END:VTIMEZONE
BEGIN:VEVENT
DTSTART;TZID=UTC:20201117T180000
DTEND;TZID=UTC:20201117T193000
DTSTAMP:20260425T193113
CREATED:20201217T205006Z
LAST-MODIFIED:20201217T205006Z
UID:888-1605636000-1605641400@ktcsocal.org
SUMMARY:Short Chenrezig + Dharma discussion With Richard Josephson
DESCRIPTION:Chenrezig Sadhana: “Sadhana” is a Sanskrit word meaning “practice” or “meditation.” The Sadhana of Chenrezig is a chanting meditation invoking the Bodhisattva of compassion\, Chenrezig. It includes prayer and visualization. The short practice is followed by Dharma discussion with Richard Josephson. No prerequisite needed for this practice. Join us via Zoom (invite in email).
URL:https://ktcsocal.org/calendar/short-chenrezig-dharma-discussion-with-richard-josephson/
END:VEVENT
END:VCALENDAR